BEGIN:VCALENDAR
PRODID:-//kirchenweb.ch gmbh//veranstaltungsausgabe v2.0//DE
VERSION:2.0
METHOD:PUBLISH
BEGIN:VEVENT
DTSTART:20260726T074500Z
DTEND:20260726T091500Z
LOCATION:Kirche\, Gottstattstrasse 29\, 2552 Orpund
TRANSP:OPAQUE
SEQUENCE:0
UID:5764-veranstaltung@gottstatt.ch
DTSTAMP:20251023T085753Z
DESCRIPTION:Kirchen-Taxi: \n\nKontakt: Pfrn. Esther Wiesmann\n\nWeitere
  Infos: https://www.gottstatt.ch/veranstaltung/5764
SUMMARY:Gottesdienst
PRIORITY:5
X-MICROSOFT-CDO-IMPORTANCE:1
CLASS:PUBLIC
END:VEVENT
END:VCALENDAR
