BEGIN:VCALENDAR
PRODID:-//kirchenweb.ch gmbh//veranstaltungsausgabe v2.0//DE
VERSION:2.0
METHOD:PUBLISH
BEGIN:VEVENT
DTSTART:20260712T074500Z
DTEND:20260712T091500Z
LOCATION:Kirche\, Gottstattstrasse 29\, 2552 Orpund
TRANSP:OPAQUE
SEQUENCE:0
UID:5763-veranstaltung@gottstatt.ch
DTSTAMP:20251023T085718Z
DESCRIPTION:Kirchen-Taxi: \n\nKontakt: Pfr. Philippe Otti\n\nWeitere
  Infos: https://www.gottstatt.ch/veranstaltung/5763
SUMMARY:Gottesdienst im Klosterhof
PRIORITY:5
X-MICROSOFT-CDO-IMPORTANCE:1
CLASS:PUBLIC
END:VEVENT
END:VCALENDAR
