BEGIN:VCALENDAR
PRODID:-//kirchenweb.ch gmbh//veranstaltungsausgabe v2.0//DE
VERSION:2.0
METHOD:PUBLISH
BEGIN:VEVENT
DTSTART:20260628T083000Z
DTEND:20260628T100000Z
LOCATION:Waldhaus Meinisberg\, \,
TRANSP:OPAQUE
SEQUENCE:0
UID:5759-veranstaltung@gottstatt.ch
DTSTAMP:20260413T081556Z
DESCRIPTION:Mitwirkung Musikgesellschaft Meinisberg\nAnschliessend
  Grillieren.\nKirchen-Taxi:\n\nKontakt: Pfr. Philippe Otti\n\nWeitere
  Infos: https://www.gottstatt.ch/veranstaltung/5759
SUMMARY:Gottesdienst Waldhaus
PRIORITY:5
X-MICROSOFT-CDO-IMPORTANCE:1
CLASS:PUBLIC
END:VEVENT
END:VCALENDAR
