BEGIN:VCALENDAR
PRODID:-//kirchenweb.ch gmbh//veranstaltungsausgabe v2.0//DE
VERSION:2.0
METHOD:PUBLISH
BEGIN:VEVENT
DTSTART:20260614T080000Z
DTEND:20260614T100000Z
LOCATION:Kirche\, Gottstattstrasse 29\, 2552 Orpund
TRANSP:OPAQUE
SEQUENCE:0
UID:5757-veranstaltung@gottstatt.ch
DTSTAMP:20260324T095356Z
DESCRIPTION:Mitwirkung der KUW 1. Klasse\nAnschliessend Grillieren
 \nKirchen-Taxi: Thomas Eigenheer\, Telefon 032 355 10 16\n\nKontakt:
  Yvonne Eigenheer\n\nWeitere Infos:
  https://www.gottstatt.ch/veranstaltung/5757
SUMMARY:Gottesdienst
PRIORITY:5
X-MICROSOFT-CDO-IMPORTANCE:1
CLASS:PUBLIC
END:VEVENT
END:VCALENDAR
