BEGIN:VCALENDAR
PRODID:-//kirchenweb.ch gmbh//veranstaltungsausgabe v2.0//DE
VERSION:2.0
METHOD:PUBLISH
BEGIN:VEVENT
DTSTART:20260607T170000Z
DTEND:20260607T200000Z
LOCATION:Kirche\, Gottstattstrasse 29\, 2552 Orpund
TRANSP:OPAQUE
SEQUENCE:0
UID:5756-veranstaltung@gottstatt.ch
DTSTAMP:20251021T115949Z
DESCRIPTION:Kontakt: Nicole Jakob\n\nWeitere Infos:
  https://www.gottstatt.ch/veranstaltung/5756
SUMMARY:Jugendgottesdienst
PRIORITY:5
X-MICROSOFT-CDO-IMPORTANCE:1
CLASS:PUBLIC
END:VEVENT
END:VCALENDAR
