BEGIN:VCALENDAR
PRODID:-//kirchenweb.ch gmbh//veranstaltungsausgabe v2.0//DE
VERSION:2.0
METHOD:PUBLISH
BEGIN:VEVENT
DTSTART:20260524T074500Z
DTEND:20260524T091500Z
LOCATION:Kirche\, Gottstattstrasse 29\, 2552 Orpund
TRANSP:OPAQUE
SEQUENCE:0
UID:5754-veranstaltung@gottstatt.ch
DTSTAMP:20260326T095448Z
DESCRIPTION:Mit Abendmahl\nKirchen-Taxi: Hans Jürg Schlunegger\, Telefon
  032 355 18 94\n\nKontakt: Pfr. Philippe Otti\n\nWeitere Infos:
  https://www.gottstatt.ch/veranstaltung/5754
SUMMARY:Gottesdienst zu Pfingsten
PRIORITY:5
X-MICROSOFT-CDO-IMPORTANCE:1
CLASS:PUBLIC
END:VEVENT
END:VCALENDAR
