BEGIN:VCALENDAR
PRODID:-//kirchenweb.ch gmbh//veranstaltungsausgabe v2.0//DE
VERSION:2.0
METHOD:PUBLISH
BEGIN:VEVENT
DTSTART:20260517T074500Z
DTEND:20260517T091500Z
LOCATION:Kirche\, Gottstattstrasse 29\, 2552 Orpund
TRANSP:OPAQUE
SEQUENCE:0
UID:5752-veranstaltung@gottstatt.ch
DTSTAMP:20260326T095419Z
DESCRIPTION:Kirchen-Taxi: Maya Anliker\, Telefon 032 530 63 39\n\nKontakt:
  Pfrn. Esther Wiesmann\n\nWeitere Infos:
  https://www.gottstatt.ch/veranstaltung/5752
SUMMARY:Gottesdienst
PRIORITY:5
X-MICROSOFT-CDO-IMPORTANCE:1
CLASS:PUBLIC
END:VEVENT
END:VCALENDAR
