BEGIN:VCALENDAR
PRODID:-//kirchenweb.ch gmbh//veranstaltungsausgabe v2.0//DE
VERSION:2.0
METHOD:PUBLISH
BEGIN:VEVENT
DTSTART:20260514T074500Z
DTEND:20260514T091500Z
LOCATION:Kirche\, Gottstattstrasse 29\, 2552 Orpund
TRANSP:OPAQUE
SEQUENCE:0
UID:5750-veranstaltung@gottstatt.ch
DTSTAMP:20260409T113524Z
DESCRIPTION:Mit Abendmahl\nKirchen-Taxi: Martin Toggweiler\, Telefon 032
  355 20 25\n\nKontakt: Pfr. Adrian Müller\n\nWeitere Infos:
  https://www.gottstatt.ch/veranstaltung/5750
SUMMARY:Gottesdienst an Auffahrt
PRIORITY:5
X-MICROSOFT-CDO-IMPORTANCE:1
CLASS:PUBLIC
END:VEVENT
END:VCALENDAR
