BEGIN:VCALENDAR
PRODID:-//kirchenweb.ch gmbh//veranstaltungsausgabe v2.0//DE
VERSION:2.0
METHOD:PUBLISH
BEGIN:VEVENT
DTSTART:20260510T170000Z
DTEND:20260510T183000Z
LOCATION:Haus der Gemeindeverwaltung\, Hauptstrasse 62\, 2553 Safnern
TRANSP:OPAQUE
SEQUENCE:0
UID:5749-veranstaltung@gottstatt.ch
DTSTAMP:20260416T071051Z
DESCRIPTION:Kirchen-Taxi: Cecile Fröhli\, Telefon 078 761 60 71\n
 \nKontakt: Pfr. Philippe Otti\n\nWeitere Infos:
  https://www.gottstatt.ch/veranstaltung/5749
SUMMARY:Abendgottesdienst
PRIORITY:5
X-MICROSOFT-CDO-IMPORTANCE:1
CLASS:PUBLIC
END:VEVENT
END:VCALENDAR
