BEGIN:VCALENDAR
PRODID:-//kirchenweb.ch gmbh//veranstaltungsausgabe v2.0//DE
VERSION:2.0
METHOD:PUBLISH
BEGIN:VEVENT
DTSTART:20260426T074500Z
DTEND:20260426T091500Z
LOCATION:Kirche\, Gottstattstrasse 29\, 2552 Orpund
TRANSP:OPAQUE
SEQUENCE:0
UID:5747-veranstaltung@gottstatt.ch
DTSTAMP:20260319T131852Z
DESCRIPTION:Kirchen-Taxi: Thomas Eigenheer\, Telefon 032 355 10 16\n\n
 \nKontakt: Pfrn. Petra Burri\n\nWeitere Infos:
  https://www.gottstatt.ch/veranstaltung/5747
SUMMARY:Gottesdienst
PRIORITY:5
X-MICROSOFT-CDO-IMPORTANCE:1
CLASS:PUBLIC
END:VEVENT
END:VCALENDAR
