BEGIN:VCALENDAR
PRODID:-//kirchenweb.ch gmbh//veranstaltungsausgabe v2.0//DE
VERSION:2.0
METHOD:PUBLISH
BEGIN:VEVENT
DTSTART:20260405T074500Z
DTEND:20260405T091500Z
LOCATION:Kirche\, Gottstattstrasse 29\, 2552 Orpund
TRANSP:OPAQUE
SEQUENCE:0
UID:5744-veranstaltung@gottstatt.ch
DTSTAMP:20260305T092826Z
DESCRIPTION:Kirchen-Taxi: Cecile Fröhli\, Telefon 078 761 60 71\n
 \nKontakt: Pfrn. Esther Wiesmann\n\nWeitere Infos:
  https://www.gottstatt.ch/veranstaltung/5744
SUMMARY:Ostergottesdienst mit Abendmahl
PRIORITY:5
X-MICROSOFT-CDO-IMPORTANCE:1
CLASS:PUBLIC
END:VEVENT
END:VCALENDAR
