BEGIN:VCALENDAR
PRODID:-//kirchenweb.ch gmbh//veranstaltungsausgabe v2.0//DE
VERSION:2.0
METHOD:PUBLISH
BEGIN:VEVENT
DTSTART:20260405T040000Z
DTEND:20260405T053000Z
LOCATION:Kirche\, Gottstattstrasse 29\, 2552 Orpund
TRANSP:OPAQUE
SEQUENCE:0
UID:5743-veranstaltung@gottstatt.ch
DTSTAMP:20260305T092751Z
DESCRIPTION:Vom Osterfeuer im Klosterhof ziehen wir in die Kirche. Im
  Dunkeln wird dort die Osterkerze entzündet\, welche in allen
  Gottesdiensten brennt. Es folgt eine frohe Auferstehungsfeier. \n
 \nAnschliessend sind alle zum Chiuche Zmorge eingeladen.\n\nKirchen-Taxi:
  Maya Anliker\, Telefon 032 530 63 39\n\nKontakt: Pfr. Philippe Otti\n
 \nWeitere Infos: https://www.gottstatt.ch/veranstaltung/5743
SUMMARY:Osternachtfeier mit Abendmahl
PRIORITY:5
X-MICROSOFT-CDO-IMPORTANCE:1
CLASS:PUBLIC
END:VEVENT
END:VCALENDAR
