BEGIN:VCALENDAR
PRODID:-//kirchenweb.ch gmbh//veranstaltungsausgabe v2.0//DE
VERSION:2.0
METHOD:PUBLISH
BEGIN:VEVENT
DTSTART:20260208T084500Z
DTEND:20260208T101500Z
LOCATION:Kirche\, Gottstattstrasse 29\, 2552 Orpund
TRANSP:OPAQUE
SEQUENCE:0
UID:5734-veranstaltung@gottstatt.ch
DTSTAMP:20251209T081141Z
DESCRIPTION:Kirchen-Taxi: Thomas Eigenheer\, Telefon 032 355 10 16\n
 \nKontakt: Pfr. Philippe Otti\n\nWeitere Infos:
  https://www.gottstatt.ch/veranstaltung/5734
SUMMARY:Gottesdienst mit Abendmahl
PRIORITY:5
X-MICROSOFT-CDO-IMPORTANCE:1
CLASS:PUBLIC
END:VEVENT
END:VCALENDAR
