BEGIN:VCALENDAR
PRODID:-//kirchenweb.ch gmbh//veranstaltungsausgabe v2.0//DE
VERSION:2.0
METHOD:PUBLISH
BEGIN:VEVENT
DTSTART:20260510T074500Z
DTEND:20260510T091500Z
LOCATION:Kirche\, Gottstattsttrasse 29\, 2552 Orpund
TRANSP:OPAQUE
SEQUENCE:0
UID:5695-veranstaltung@gottstatt.ch
DTSTAMP:20260326T095222Z
DESCRIPTION:Anschliessend Apéro\nKirchen-Taxi: Yvonne Eigenheer\, Telefon
  032 355 10 16\n\nKontakt: Pfr. Adrian Müller\n\nWeitere Infos:
  https://www.gottstatt.ch/veranstaltung/5695
SUMMARY:Konfirmationsgottesdienst KUW 9b. Klasse
PRIORITY:5
X-MICROSOFT-CDO-IMPORTANCE:1
CLASS:PUBLIC
END:VEVENT
END:VCALENDAR
