BEGIN:VCALENDAR
PRODID:-//kirchenweb.ch gmbh//veranstaltungsausgabe v2.0//DE
VERSION:2.0
METHOD:PUBLISH
BEGIN:VEVENT
DTSTART:20260423T100000Z
DTEND:20260423T120000Z
LOCATION:Kirchgemeindehaus Meinisberg\, Hintere Gasse 7\, 2554 Meinisberg
TRANSP:OPAQUE
SEQUENCE:0
UID:5508-veranstaltung@gottstatt.ch
DTSTAMP:20260210T085208Z
DESCRIPTION:Gemütliches Treffen und Mittagessen mit Freunden und
  Bekannten.\nErwachsene Fr. 10.- und Kinder Fr. 6.-\n\n(über die Gasse:
  bitte Geschirr mitbringen: Erwachsene Fr. 8.- und Kinder Fr. 5.-)\n
 \nKontakt: melissa.amico@gottstatt.ch\n\nWeitere Infos:
  https://www.gottstatt.ch/veranstaltung/5508
SUMMARY:Offener Mittagstisch in Meinisberg
PRIORITY:5
X-MICROSOFT-CDO-IMPORTANCE:1
CLASS:PUBLIC
END:VEVENT
END:VCALENDAR
