BEGIN:VCALENDAR
PRODID:-//kirchenweb.ch gmbh//veranstaltungsausgabe v2.0//DE
VERSION:2.0
METHOD:PUBLISH
BEGIN:VEVENT
DTSTART:20251013T140000Z
DTEND:20251013T153000Z
LOCATION:Burger Kafi\, \, 2553 Safnern
TRANSP:OPAQUE
SEQUENCE:0
UID:5505-veranstaltung@gottstatt.ch
DTSTAMP:20251027T093650Z
DESCRIPTION:Herzliche Einladung zu zwei Gesprächsrunden\n\nDie Bibel
  erzählt von vielen Begegnungen\, die Menschen mit Jesus hatten und
  dadurch erstaunliche Hilfe und neue Perspektiven bekamen. Wir wollen
  solche Geschichten zusammen lesen\, darüber diskutieren und sie mit
  unseren eigenen Erfahrungen in Verbindung bringen. Das regt an zu eigenen
  Entdeckungen und ermutigenden Begegnungen mit Gott. \n\nWeitere
  Auskünfte: Esther Wiesmann\, Tel. 077 422 64 00 oder
  esther.wiesmann@gottstatt.ch\nAnmeldung erwünscht\, aber auch
  Kurzentschlossene sind herzlich willkommen. \nZwei weitere Termine
  folgen\, aber die Daten sind noch nicht definitiv.\nEsther Wiesmann\n\n
 \nKontakt: Pfrn. Esther Wiesmann\n\nWeitere Infos:
  https://www.gottstatt.ch/veranstaltung/5505
SUMMARY:Begegnungen miteinander\, Begegnungen mit Jesus
PRIORITY:5
X-MICROSOFT-CDO-IMPORTANCE:1
CLASS:PUBLIC
END:VEVENT
END:VCALENDAR
