BEGIN:VCALENDAR
PRODID:-//kirchenweb.ch gmbh//veranstaltungsausgabe v2.0//DE
VERSION:2.0
METHOD:PUBLISH
BEGIN:VEVENT
DTSTART:20261106T140000Z
DTEND:20261106T160000Z
LOCATION:Kirchgemeindehaus Meinisberg\, Hintere Gasse 7\, 2554 Meinisberg
TRANSP:OPAQUE
SEQUENCE:0
UID:5485-veranstaltung@gottstatt.ch
DTSTAMP:20260210T090023Z
DESCRIPTION:Nimm dir Zyt für Begägnige\, nimm dir Zyt zum zäme sy.\n
 \nGmüetlech bi Kafi\, Tee u öppis Süessem.\n\nKontakt: Ruth Stettler\n
 \nWeitere Infos: https://www.gottstatt.ch/veranstaltung/5485
SUMMARY:Begägnigskafi
PRIORITY:5
X-MICROSOFT-CDO-IMPORTANCE:1
CLASS:PUBLIC
END:VEVENT
END:VCALENDAR
