BEGIN:VCALENDAR
PRODID:-//kirchenweb.ch gmbh//veranstaltungsausgabe v2.0//DE
VERSION:2.0
METHOD:PUBLISH
BEGIN:VEVENT
DTSTART:20261002T130000Z
DTEND:20261002T150000Z
LOCATION:Kirchgemeindehaus Meinisberg\, Hintere Gasse 7\, 2554 Meinisberg
TRANSP:OPAQUE
SEQUENCE:0
UID:5484-veranstaltung@gottstatt.ch
DTSTAMP:20260210T085717Z
DESCRIPTION:Nimm dir Zyt für Begägnige\, nimm dir Zyt zum zäme sy.\n
 \nGmüetlech bi Kafi\, Tee u öppis Süessem.\n\nKontakt: Ruth Stettler\n
 \nWeitere Infos: https://www.gottstatt.ch/veranstaltung/5484
SUMMARY:Begägnigskafi
PRIORITY:5
X-MICROSOFT-CDO-IMPORTANCE:1
CLASS:PUBLIC
END:VEVENT
END:VCALENDAR
