BEGIN:VCALENDAR
PRODID:-//kirchenweb.ch gmbh//veranstaltungsausgabe v2.0//DE
VERSION:2.0
METHOD:PUBLISH
BEGIN:VEVENT
DTSTART:20260227T190000Z
DTEND:20260227T210000Z
LOCATION:Kirchgemeindehaus\, Gottstattstrasse 29\, 2552 Orpund
TRANSP:OPAQUE
SEQUENCE:0
UID:5469-veranstaltung@gottstatt.ch
DTSTAMP:20251124T002830Z
DESCRIPTION:Locus Dei - Die Gemeinschaft der Versöhnung\nAlexandra und
  Stefan erzählen über ihre Arbeit in der Provence. Ihr Ruf und ihre
  Arbeit ist es\, Juden und Moslems einander näher zu bringen und
  Versöhnung zu stiften.\n\nAnschliessend gemütliches Beisammensein bei
  einem Dessert\n\nKontakt: Hans Jürg Schlunegger\n\nWeitere Infos:
  https://www.gottstatt.ch/veranstaltung/5469
SUMMARY:Locus Dei - Die Gemeinschaft der Versöhnung stellt sich vor
PRIORITY:5
X-MICROSOFT-CDO-IMPORTANCE:1
CLASS:PUBLIC
END:VEVENT
END:VCALENDAR
