BEGIN:VCALENDAR
PRODID:-//kirchenweb.ch gmbh//veranstaltungsausgabe v2.0//DE
VERSION:2.0
METHOD:PUBLISH
BEGIN:VEVENT
DTSTART:20260306T190000Z
DTEND:20260306T210000Z
LOCATION:Kirchgemeindehaus\, Gottstattstrasse 29\, 2552 Orpund
TRANSP:OPAQUE
SEQUENCE:0
UID:5447-veranstaltung@gottstatt.ch
DTSTAMP:20260319T230406Z
DESCRIPTION:Bibelabend\n\n"1. Samuel 24\, 1-23"\n\nDer Abend findet live
  im Grossen Saal statt. Für Verhinderte ist eine Teilnahme mit "Microsoft
  Teams" direkt im Browser (Edge\, Chrome usw.) möglich.\nTeilnahme unter
  Angabe von Vorname und Name unter folgendem
 \nhttps://teams.microsoft.com/l/meetup-join/19%3ameeting_YWY5MzJhOTMtYWY1M
 C00OTY2LWE4MTAtM2Q1OWQ2OGE2YWM2%40thread.v2/0?context=%7b%22Tid%22%3a%22ff
 04822e-8063-44f4-9500-f199d39b6619%22%2c%22Oid%22%3a%229a719de4-339f-4548-
 a86e-f03cb51f7ba6%22%7d\n\nWir freuen uns aber besonders wenn du live
  dabei bist!\n\n\n\n\nKontakt: Hans Jürg Schlunegger\n\nWeitere Infos:
  https://www.gottstatt.ch/veranstaltung/5447
SUMMARY:Locus Dei - Bibelabend
PRIORITY:5
X-MICROSOFT-CDO-IMPORTANCE:1
CLASS:PUBLIC
END:VEVENT
END:VCALENDAR
