BEGIN:VCALENDAR
PRODID:-//kirchenweb.ch gmbh//veranstaltungsausgabe v2.0//DE
VERSION:2.0
METHOD:PUBLISH
BEGIN:VEVENT
DTSTART:20250905T113000Z
DTEND:20250905T140000Z
LOCATION:Kirchgemeindehaus\, Gottstattstrasse 29\, 2552 Orpund
TRANSP:OPAQUE
SEQUENCE:0
UID:5367-veranstaltung@gottstatt.ch
DTSTAMP:20250718T131559Z
DESCRIPTION:Kontakt: Yvonne Eigenheer\n\nWeitere Infos:
  https://www.gottstatt.ch/veranstaltung/5367
SUMMARY:KUW 4. Klasse
PRIORITY:5
X-MICROSOFT-CDO-IMPORTANCE:1
CLASS:PUBLIC
END:VEVENT
END:VCALENDAR
