BEGIN:VCALENDAR
PRODID:-//kirchenweb.ch gmbh//veranstaltungsausgabe v2.0//DE
VERSION:2.0
METHOD:PUBLISH
BEGIN:VEVENT
DTSTART:20250601T073000Z
DTEND:20250601T093000Z
LOCATION:Kirchgemeindehaus\, Gottstattstrasse 29\, 2552 Orpund
TRANSP:OPAQUE
SEQUENCE:0
UID:5343-veranstaltung@gottstatt.ch
DTSTAMP:20250530T123013Z
DESCRIPTION:Liebe Familien\, \n\nin unserer Kirche Gottstatt seid Ihr
  herzlich willkommen!\n\nWährend den Gottesdiensten am Morgen bieten wir
  ein Kinderprogramm und einen Hüetidienst an.Wir starten jeweils mit den
  Erwachsenen im Gottesdienst.\n\nWir freuen uns auf euch.\n\nKontakt:
  noemi.toggweiler@gottstatt.ch\n\nWeitere Infos:
  https://www.gottstatt.ch/veranstaltung/5343
SUMMARY:Chinderhüeti während dem Gottesdienst
PRIORITY:5
X-MICROSOFT-CDO-IMPORTANCE:1
CLASS:PUBLIC
END:VEVENT
END:VCALENDAR
