BEGIN:VCALENDAR
PRODID:-//kirchenweb.ch gmbh//veranstaltungsausgabe v2.0//DE
VERSION:2.0
METHOD:PUBLISH
BEGIN:VEVENT
DTSTART:20250622T073000Z
DTEND:20250622T093000Z
LOCATION:Kirchgemeindehaus\, Gottstattstrasse 29\, 2552 Orpund
TRANSP:OPAQUE
SEQUENCE:0
UID:5245-veranstaltung@gottstatt.ch
DTSTAMP:20250226T184109Z
DESCRIPTION:Liebe Familien\, \n\nin unserer Kirche Gottstatt seid Ihr
  herzlich willkommen!\n\nWährend den Gottesdiensten am Morgen bieten wir
  ein Kinderprogramm und einen Hüetidienst an.Wir starten jeweils mit den
  Erwachsenen im Gottesdienst.\n\nWir freuen uns auf euch.\n\nKontakt:
  noemi.toggweiler@gottstatt.ch\n\nWeitere Infos:
  https://www.gottstatt.ch/veranstaltung/5245
SUMMARY:Chinderhüeti während dem Gottesdienst
PRIORITY:5
X-MICROSOFT-CDO-IMPORTANCE:1
CLASS:PUBLIC
END:VEVENT
END:VCALENDAR
