BEGIN:VCALENDAR
PRODID:-//kirchenweb.ch gmbh//veranstaltungsausgabe v2.0//DE
VERSION:2.0
METHOD:PUBLISH
BEGIN:VEVENT
DTSTART:20250907T073000Z
DTEND:20250907T090000Z
LOCATION:Kirchgemeindehaus\, Hintere Gasse 7\, 2554 Meinisberg
TRANSP:OPAQUE
SEQUENCE:0
UID:5090-veranstaltung@gottstatt.ch
DTSTAMP:20250825T115150Z
DESCRIPTION:mit Pfarrerin Brigitta Frey und der Fun Gruppe Büren a. A.
 \nDie Kirchgemeinde Pieterlen-Meinisberg lädt die Gottstatter:innen zum
  Gottesdienst mit anschliessendem Apéro ein.\n\n\nKontakt: Pfrn. Brigitta
  Frey\, 077 466 21 27\n\nWeitere Infos:
  https://www.gottstatt.ch/veranstaltung/5090
SUMMARY:Gottesdienst in Meinisberg
PRIORITY:5
X-MICROSOFT-CDO-IMPORTANCE:1
CLASS:PUBLIC
END:VEVENT
END:VCALENDAR
