BEGIN:VCALENDAR
PRODID:-//kirchenweb.ch gmbh//veranstaltungsausgabe v2.0//DE
VERSION:2.0
METHOD:PUBLISH
BEGIN:VEVENT
DTSTART:20241224T153000Z
DTEND:20241224T170000Z
LOCATION:Kirchgemeindehaus\, Gottstattstrasse 29\, 2552 Orpund
TRANSP:OPAQUE
SEQUENCE:0
UID:4715-veranstaltung@gottstatt.ch
DTSTAMP:20241025T153238Z
DESCRIPTION:Liebe Familien\, \n\nin unserer Kirche Gottstatt seid Ihr
  herzlich willkommen!\n\nWährend den Gottesdiensten bieten wir
  normalerweise ein Kinderprogramm und einen Hütedienst an. Am Sonntag
  24.12.2024 findet aber nur eine Hüte und kein Programm statt.\n\nAlle
  Kinder sind herzlich willkommen. \n\nKontakt: Esther Tchao\n\nWeitere
  Infos: https://www.gottstatt.ch/veranstaltung/4715
SUMMARY:Chinderhüeti während dem Gottesdienst
PRIORITY:5
X-MICROSOFT-CDO-IMPORTANCE:1
CLASS:PUBLIC
END:VEVENT
END:VCALENDAR
