BEGIN:VCALENDAR
PRODID:-//kirchenweb.ch gmbh//veranstaltungsausgabe v2.0//DE
VERSION:2.0
METHOD:PUBLISH
BEGIN:VEVENT
DTSTART:20260425T073000Z
DTEND:20260425T100000Z
LOCATION:Kirche\, Gottstattstrasse 29\, 2552 Orpund
TRANSP:OPAQUE
SEQUENCE:0
UID:4706-veranstaltung@gottstatt.ch
DTSTAMP:20260420T072428Z
DESCRIPTION:Referat mit Janine Oesch.\nInneren Frieden kultivieren\, wenn
  die Welt Kopf steht.\nIst der Anspruch an inneren Frieden überhaupt
  realistisch\, wenn wir mit globalen und persönlichen Nöten und
  Herausforderungen konfrontiert sind? Was gibt in solchen Momenten Halt?
  Und was kann ich tun\, um diesen Frieden in meinem Leben zu kultivieren?
  Wir machen uns zusammen auf die Suche nach möglichen Antworten in der
  Bibel und der Psychologie.\n\nJanine Oesch lebt mit ihrer Familie in
  Horw\, engagiert sich in der Reformierten Kirche und arbeitet als
  psychosoziale Beraterin bcb. Beim Bibellesebund Schweiz leitet sie die
  Arbeit für Frauen und Mütter und schreibt für das Magazin
  «Atempause» sowie auf ihrem Blog: www.letsflourish.ch.\n\n\nWann:
  Samstag\, 25. April 2026\, 09:30 Uhr\nWo: Kirchgemeindehaus\,
  Gottstattstrasse 29\, 2552 Orpund\nAnmeldeschluss: 23. April 2026.
  https://www.gottstatt.ch/bericht/375\nFalls Anmeldung nicht möglich:
  Tel. 032 355 30 11\, Sekretariat der Kirchgemeinde\nKosten: CHF 10.-\n
 \nWir freuen uns auf Sie!\n\nDieses Jahr bieten wir KEINE Kinderhüeti an.
  Danke fürs Verständnis.\n\nKontakt: Yvonne Eigenheer\n\nWeitere Infos:
  https://www.gottstatt.ch/veranstaltung/4706
SUMMARY:Frouemorge
PRIORITY:5
X-MICROSOFT-CDO-IMPORTANCE:1
CLASS:PUBLIC
END:VEVENT
END:VCALENDAR
