BEGIN:VCALENDAR
PRODID:-//kirchenweb.ch gmbh//veranstaltungsausgabe v2.0//DE
VERSION:2.0
METHOD:PUBLISH
BEGIN:VEVENT
DTSTART:20251218T180000Z
DTEND:20251218T200000Z
LOCATION:Kirche\, Gottstattstrasse 29\, 2552 Orpund
TRANSP:OPAQUE
SEQUENCE:0
UID:4677-veranstaltung@gottstatt.ch
DTSTAMP:20251218T075345Z
DESCRIPTION:anschliessend Punsch und Guezli\n\nKontakt: Pfr. Gabriel
  Schmid\n\nWeitere Infos: https://www.gottstatt.ch/veranstaltung/4677
SUMMARY:Friedensgebet
PRIORITY:5
X-MICROSOFT-CDO-IMPORTANCE:1
CLASS:PUBLIC
END:VEVENT
END:VCALENDAR
