BEGIN:VCALENDAR
PRODID:-//kirchenweb.ch gmbh//veranstaltungsausgabe v2.0//DE
VERSION:2.0
METHOD:PUBLISH
BEGIN:VEVENT
DTSTART:20261009T050000Z
DTEND:20261009T053000Z
LOCATION:Orgelvorraum ehemalige SOSCH - Stube\, \,
TRANSP:OPAQUE
SEQUENCE:0
UID:4635-veranstaltung@gottstatt.ch
DTSTAMP:20240923T080815Z
DESCRIPTION:Kontakt: thomas.eigenheer@gottstatt.ch\n\nWeitere Infos:
  https://www.gottstatt.ch/veranstaltung/4635
SUMMARY:Mitarbeitergebet
PRIORITY:5
X-MICROSOFT-CDO-IMPORTANCE:1
CLASS:PUBLIC
END:VEVENT
END:VCALENDAR
