BEGIN:VCALENDAR
PRODID:-//kirchenweb.ch gmbh//veranstaltungsausgabe v2.0//DE
VERSION:2.0
METHOD:PUBLISH
BEGIN:VEVENT
DTSTART:20241229T083000Z
DTEND:20241229T100000Z
LOCATION:Kirche\, Gottstattstrasse 29\, 2552 Orpund
TRANSP:OPAQUE
SEQUENCE:0
UID:4140-veranstaltung@gottstatt.ch
DTSTAMP:20241219T114343Z
DESCRIPTION:Kirchen-Taxi: Maya Anliker\, Telefon 032 530 63 39\n\nKontakt:
  Pfr. Adrian Müller\n\nWeitere Infos:
  https://www.gottstatt.ch/veranstaltung/4140
SUMMARY:Gottesdienst zum Jahresende
PRIORITY:5
X-MICROSOFT-CDO-IMPORTANCE:1
CLASS:PUBLIC
END:VEVENT
END:VCALENDAR
