BEGIN:VCALENDAR
PRODID:-//kirchenweb.ch gmbh//veranstaltungsausgabe v2.0//DE
VERSION:2.0
METHOD:PUBLISH
BEGIN:VEVENT
DTSTART:20241225T083000Z
DTEND:20241225T100000Z
LOCATION:Kirche\, Gottstattstrasse 29\, 2552 Orpund
TRANSP:OPAQUE
SEQUENCE:0
UID:4139-veranstaltung@gottstatt.ch
DTSTAMP:20241219T114323Z
DESCRIPTION:Mitwirkung gemischter Chor Safnern\nKirchen-Taxi: Thomas
  Eigenheer\, Telefon 032 355 10 16\n\nKontakt: Christine Maurer\n\nWeitere
  Infos: https://www.gottstatt.ch/veranstaltung/4139
SUMMARY:Weihnachtsgottesdienst mit Abendmahl
PRIORITY:5
X-MICROSOFT-CDO-IMPORTANCE:1
CLASS:PUBLIC
END:VEVENT
END:VCALENDAR
