BEGIN:VCALENDAR
PRODID:-//kirchenweb.ch gmbh//veranstaltungsausgabe v2.0//DE
VERSION:2.0
METHOD:PUBLISH
BEGIN:VEVENT
DTSTART:20231111T183000Z
DTEND:20231111T210000Z
LOCATION:Kirchgemeindehaus Gottstatt\, \,
TRANSP:OPAQUE
SEQUENCE:0
UID:3790-veranstaltung@gottstatt.ch
DTSTAMP:20230904T170938Z
DESCRIPTION:Kontakt: simon.thallinger@gottstatt.ch\n\nWeitere Infos:
  https://www.gottstatt.ch/veranstaltung/3790
SUMMARY:Splash: Casino
PRIORITY:5
X-MICROSOFT-CDO-IMPORTANCE:1
CLASS:PUBLIC
END:VEVENT
END:VCALENDAR
