BEGIN:VCALENDAR
PRODID:-//kirchenweb.ch gmbh//veranstaltungsausgabe v2.0//DE
VERSION:2.0
METHOD:PUBLISH
BEGIN:VEVENT
DTSTART:20231115T123000Z
DTEND:20231115T150000Z
LOCATION:Kirchgemeindehaus\, Gottstattstrasse 29\, 2552 Orpund
TRANSP:OPAQUE
SEQUENCE:0
UID:3742-veranstaltung@gottstatt.ch
DTSTAMP:20230827T165335Z
DESCRIPTION:Kontakt: Yvonne Eigenheer\, Tel.  	032 355 10 16\n\nWeitere
  Infos: https://www.gottstatt.ch/veranstaltung/3742
SUMMARY:KUW 3. Klasse
PRIORITY:5
X-MICROSOFT-CDO-IMPORTANCE:1
CLASS:PUBLIC
END:VEVENT
END:VCALENDAR
