BEGIN:VCALENDAR
PRODID:-//kirchenweb.ch gmbh//veranstaltungsausgabe v2.0//DE
VERSION:2.0
METHOD:PUBLISH
BEGIN:VEVENT
DTSTART:20231103T143000Z
DTEND:20231103T153000Z
LOCATION:Kirchgemeindehaus\, Gottstattstrasse 29\, 2552 Orpund
TRANSP:OPAQUE
SEQUENCE:0
UID:3714-veranstaltung@gottstatt.ch
DTSTAMP:20231228T122725Z
DESCRIPTION:Alle Kinder von 4 bis 10 Jahre sind herzlich im Kids-Träff
  willkommen.\nWir singen\, basteln und hören auf biblische Geschichten.\n
 \nWir treffen uns von 15.30 Uhr bis 16.30 Uhr im Jugendkeller im
  Kirchgemeindehaus Gottstatt.\n\nKontakt: Esthi Fröhli : 076 567 08 51\n
 \nWeitere Infos: https://www.gottstatt.ch/veranstaltung/3714
SUMMARY:Kids-Träff
PRIORITY:5
X-MICROSOFT-CDO-IMPORTANCE:1
CLASS:PUBLIC
END:VEVENT
END:VCALENDAR
