BEGIN:VCALENDAR
PRODID:-//kirchenweb.ch gmbh//veranstaltungsausgabe v2.0//DE
VERSION:2.0
METHOD:PUBLISH
BEGIN:VEVENT
DTSTART:20231103T190000Z
DTEND:20231103T220000Z
LOCATION:Kirchgemeindehaus\, Gottstattstrasse 29\, 2552 Orpund
TRANSP:OPAQUE
SEQUENCE:0
UID:3638-veranstaltung@gottstatt.ch
DTSTAMP:20231121T210040Z
DESCRIPTION:Bibelabend \n\n"Das Buch Daniel\, Kap. 2\, 24-49"\n\nDer Abend
  findet live im Grossen Saal statt. Für Verhinderte ist eine Teilnahme
  mit "Microsoft Teams" direkt im Browser (Edge\, Chrome usw.) möglich.
 \nTeilnahme unter Angabe von Vorname und Name unter folgendem
 \nhttps://teams.microsoft.com/l/meetup-join/19%3ameeting_ZDQyYzcwNzctNmM3O
 S00NGQ3LTgyNmItOTk4NjE4YjQ5ZTJk%40thread.v2/0?context=%7b%22Tid%22%3a%22ff
 04822e-8063-44f4-9500-f199d39b6619%22%2c%22Oid%22%3a%229a719de4-339f-4548-
 a86e-f03cb51f7ba6%22%7d \n\nWir freuen uns aber besonders wenn du live
  dabei bist!\n\nKontakt: Hans Jürg Schlunegger\n\nWeitere Infos:
  https://www.gottstatt.ch/veranstaltung/3638
SUMMARY:Locus Dei
PRIORITY:5
X-MICROSOFT-CDO-IMPORTANCE:1
CLASS:PUBLIC
END:VEVENT
END:VCALENDAR
