BEGIN:VCALENDAR
PRODID:-//kirchenweb.ch gmbh//veranstaltungsausgabe v2.0//DE
VERSION:2.0
METHOD:PUBLISH
BEGIN:VEVENT
DTSTART:20230131T183000Z
DTEND:20230131T210000Z
LOCATION:Sitzungszimmer\, \,
TRANSP:OPAQUE
SEQUENCE:0
UID:3518-veranstaltung@gottstatt.ch
DTSTAMP:20230122T000147Z
DESCRIPTION:Kontakt: Hans Jürg Schlunegger\n\nWeitere Infos:
  https://www.gottstatt.ch/veranstaltung/3518
SUMMARY:Sitzung Baukommission
PRIORITY:5
X-MICROSOFT-CDO-IMPORTANCE:1
CLASS:PUBLIC
END:VEVENT
END:VCALENDAR
