BEGIN:VCALENDAR
PRODID:-//kirchenweb.ch gmbh//veranstaltungsausgabe v2.0//DE
VERSION:2.0
METHOD:PUBLISH
BEGIN:VEVENT
DTSTART:20230121T130000Z
DTEND:20230121T160000Z
LOCATION:Kirchgemeindehaus\, Gottstattstrasse 29\, 2552 Orpund
TRANSP:OPAQUE
SEQUENCE:0
UID:3492-veranstaltung@gottstatt.ch
DTSTAMP:20230109T084053Z
DESCRIPTION:Wir treffen uns jeden zweiten Samstag von 14 bis 17 Uhr hinter
  der Kirche Gottstatt in Orpund. Alle 5- bis 14- jährigen Kinder sind
  herzlich willkommen!\n\nMehr Infos: https://www.cevi-orpund.ch/\n
 \nKontakt: Martina Weber\n\nWeitere Infos:
  https://www.gottstatt.ch/veranstaltung/3492
SUMMARY:Jungschar
PRIORITY:5
X-MICROSOFT-CDO-IMPORTANCE:1
CLASS:PUBLIC
END:VEVENT
END:VCALENDAR
