BEGIN:VCALENDAR
PRODID:-//kirchenweb.ch gmbh//veranstaltungsausgabe v2.0//DE
VERSION:2.0
METHOD:PUBLISH
BEGIN:VEVENT
DTSTART:20231112T180000Z
DTEND:20231112T210000Z
LOCATION:Kirche\, Gottstattstrasse 29\, 2552 Orpund
TRANSP:OPAQUE
SEQUENCE:0
UID:3477-veranstaltung@gottstatt.ch
DTSTAMP:20240108T102529Z
DESCRIPTION:Mit David Reusser\nCoole Musik und eindrückliche Message\,
  anschliessend Hotdogs und Drinks im Klosterhof\n\n\nKontakt: Yvonne
  Eigenheer\n\nWeitere Infos: https://www.gottstatt.ch/veranstaltung/3477
SUMMARY:Jugendgottesdienst
PRIORITY:5
X-MICROSOFT-CDO-IMPORTANCE:1
CLASS:PUBLIC
END:VEVENT
END:VCALENDAR
