BEGIN:VCALENDAR
PRODID:-//kirchenweb.ch gmbh//veranstaltungsausgabe v2.0//DE
VERSION:2.0
METHOD:PUBLISH
BEGIN:VEVENT
DTSTART:20231105T083000Z
DTEND:20231105T100000Z
LOCATION:Kirche\, Gottstattstrasse 29\, 2552 Orpund
TRANSP:OPAQUE
SEQUENCE:0
UID:3476-veranstaltung@gottstatt.ch
DTSTAMP:20240108T102811Z
DESCRIPTION:Mit Abendmahl\nMit Kinderbetreuung\nKirchen-Taxi: Hans Jürg
  Schlunegger\, Telefon 032 355 18 94\n\nKontakt: Pfrn. Esther Wiesmann\n
 \nWeitere Infos: https://www.gottstatt.ch/veranstaltung/3476
SUMMARY:Gottesdienst zum Reformationssonntag
PRIORITY:5
X-MICROSOFT-CDO-IMPORTANCE:1
CLASS:PUBLIC
END:VEVENT
END:VCALENDAR
