BEGIN:VCALENDAR
PRODID:-//kirchenweb.ch gmbh//veranstaltungsausgabe v2.0//DE
VERSION:2.0
METHOD:PUBLISH
BEGIN:VEVENT
DTSTART:20230115T090000Z
DTEND:20230115T110000Z
LOCATION:Kongresshaus Biel\, Zentralstrasse 60\, 2500 Biel
TRANSP:OPAQUE
SEQUENCE:0
UID:3433-veranstaltung@gottstatt.ch
DTSTAMP:20231116T100424Z
DESCRIPTION:Treffpunkt 9.30 Uhr Parkplatz vor der Kirche Gottstatt
 \nAbholdienst\, Thomas Eigenheer Telefon 032 355 10 16\n\nKontakt: Pfr.
  Adrian Müller\n\nWeitere Infos:
  https://www.gottstatt.ch/veranstaltung/3433
SUMMARY:Allianz Gottesdienst im Kongresshaus Biel
PRIORITY:5
X-MICROSOFT-CDO-IMPORTANCE:1
CLASS:PUBLIC
END:VEVENT
END:VCALENDAR
