BEGIN:VCALENDAR
PRODID:-//kirchenweb.ch gmbh//veranstaltungsausgabe v2.0//DE
VERSION:2.0
METHOD:PUBLISH
BEGIN:VEVENT
DTSTART:20230101T160000Z
DTEND:20230101T173000Z
LOCATION:Kirchgemeindehaus\, Gottstattstrasse 29\, 2552 Orpund
TRANSP:OPAQUE
SEQUENCE:0
UID:3431-veranstaltung@gottstatt.ch
DTSTAMP:20221219T120634Z
DESCRIPTION:Abholdienst\, Maya Anliker Telefon 032 530 63 39\n\nKontakt:
  Pfrn. Esther Wiesmann\n\nWeitere Infos:
  https://www.gottstatt.ch/veranstaltung/3431
SUMMARY:Gottesdienst zum Jahresbeginn
PRIORITY:5
X-MICROSOFT-CDO-IMPORTANCE:1
CLASS:PUBLIC
END:VEVENT
END:VCALENDAR
