BEGIN:VCALENDAR
PRODID:-//kirchenweb.ch gmbh//veranstaltungsausgabe v2.0//DE
VERSION:2.0
METHOD:PUBLISH
BEGIN:VEVENT
DTSTART:20230103T090000Z
DTEND:20230103T100000Z
LOCATION:Seniorenzentrum Vivale Lindenhof\, Hauptstrasse 205\, 2552 Orpund
TRANSP:OPAQUE
SEQUENCE:0
UID:3414-veranstaltung@gottstatt.ch
DTSTAMP:20221212T095558Z
DESCRIPTION:Kontakt: Pfr. Adrian Müller\n\nWeitere Infos:
  https://www.gottstatt.ch/veranstaltung/3414
SUMMARY:Gottesdienst Seniorenzentrum Vivale Lindenhof
PRIORITY:5
X-MICROSOFT-CDO-IMPORTANCE:1
CLASS:PUBLIC
END:VEVENT
END:VCALENDAR
