BEGIN:VCALENDAR
PRODID:-//kirchenweb.ch gmbh//veranstaltungsausgabe v2.0//DE
VERSION:2.0
METHOD:PUBLISH
BEGIN:VEVENT
DTSTART:20231115T180000Z
DTEND:20231115T210000Z
LOCATION:Kirchgemeindehaus\, Gottstattstrasse 29\, 2552 Orpund
TRANSP:OPAQUE
SEQUENCE:0
UID:3408-veranstaltung@gottstatt.ch
DTSTAMP:20231123T093828Z
DESCRIPTION:Kontakt: Pfr. Adrian Müller\n\nWeitere Infos:
  https://www.gottstatt.ch/veranstaltung/3408
SUMMARY:Alpha Live Kurs
PRIORITY:5
X-MICROSOFT-CDO-IMPORTANCE:1
CLASS:PUBLIC
END:VEVENT
END:VCALENDAR
