BEGIN:VCALENDAR
PRODID:-//kirchenweb.ch gmbh//veranstaltungsausgabe v2.0//DE
VERSION:2.0
METHOD:PUBLISH
BEGIN:VEVENT
DTSTART:20230117T053000Z
DTEND:20230117T063000Z
LOCATION:Kirchgemeindehaus\, Gottstattstrasse 29\, 2552 Orpund
TRANSP:OPAQUE
SEQUENCE:0
UID:3350-veranstaltung@gottstatt.ch
DTSTAMP:20221201T085634Z
DESCRIPTION:Kontakt: melissa.amico@gottstatt.ch\n\nWeitere Infos:
  https://www.gottstatt.ch/veranstaltung/3350
SUMMARY:Morgengebet
PRIORITY:5
X-MICROSOFT-CDO-IMPORTANCE:1
CLASS:PUBLIC
END:VEVENT
END:VCALENDAR
