BEGIN:VCALENDAR
PRODID:-//kirchenweb.ch gmbh//veranstaltungsausgabe v2.0//DE
VERSION:2.0
METHOD:PUBLISH
BEGIN:VEVENT
DTSTART:20230103T110000Z
DTEND:20230103T130000Z
LOCATION:Tenniszentrum\, Meisenweg 15\, 2556 Scheuren
TRANSP:OPAQUE
SEQUENCE:0
UID:3281-veranstaltung@gottstatt.ch
DTSTAMP:20221128T141646Z
DESCRIPTION:Gemeinsam essen in fröhlicher Runde und gemütliches
  Beisammensein!\n\n\nKontakt: Frau Vreni Minder	Telefon 032 355 11 46\n
 \nWeitere Infos: https://www.gottstatt.ch/veranstaltung/3281
SUMMARY:Mittagstisch Scheuren
PRIORITY:5
X-MICROSOFT-CDO-IMPORTANCE:1
CLASS:PUBLIC
END:VEVENT
END:VCALENDAR
