BEGIN:VCALENDAR
PRODID:-//kirchenweb.ch gmbh//veranstaltungsausgabe v2.0//DE
VERSION:2.0
METHOD:PUBLISH
BEGIN:VEVENT
DTSTART:20230127T143000Z
DTEND:20230127T153000Z
LOCATION:Kirchgemeindehaus\, Gottstattstrasse 29\, 2552 Orpund
TRANSP:OPAQUE
SEQUENCE:0
UID:3279-veranstaltung@gottstatt.ch
DTSTAMP:20221128T093903Z
DESCRIPTION:Kontakt: Esthi Fröhli : 032 355 31 70\n\nWeitere Infos:
  https://www.gottstatt.ch/veranstaltung/3279
SUMMARY:Kids-Träff
PRIORITY:5
X-MICROSOFT-CDO-IMPORTANCE:1
CLASS:PUBLIC
END:VEVENT
END:VCALENDAR
