BEGIN:VCALENDAR
PRODID:-//kirchenweb.ch gmbh//veranstaltungsausgabe v2.0//DE
VERSION:2.0
METHOD:PUBLISH
BEGIN:VEVENT
DTSTART:20230127T174500Z
DTEND:20230127T184500Z
LOCATION:Kirche\, Gottstattstrasse 29\, 2552 Orpund
TRANSP:OPAQUE
SEQUENCE:0
UID:3274-veranstaltung@gottstatt.ch
DTSTAMP:20221128T103141Z
DESCRIPTION:Kontakt: Eveline Schlunegger: 032 355 18 94\n\nWeitere Infos:
  https://www.gottstatt.ch/veranstaltung/3274
SUMMARY:Teenie-Träff
PRIORITY:5
X-MICROSOFT-CDO-IMPORTANCE:1
CLASS:PUBLIC
END:VEVENT
END:VCALENDAR
