BEGIN:VCALENDAR
PRODID:-//kirchenweb.ch gmbh//veranstaltungsausgabe v2.0//DE
VERSION:2.0
METHOD:PUBLISH
BEGIN:VEVENT
DTSTART:20230116T183000Z
DTEND:20230116T220000Z
LOCATION:Kirchgemeindehaus\, Gottstattstrasse 29\, 2552 Orpund
TRANSP:OPAQUE
SEQUENCE:0
UID:3249-veranstaltung@gottstatt.ch
DTSTAMP:20230105T075138Z
DESCRIPTION:Kontakt: melissa.amico@gottstatt.ch\n\nWeitere Infos:
  https://www.gottstatt.ch/veranstaltung/3249
SUMMARY:Sitzung Kirchgemeinderat
PRIORITY:5
X-MICROSOFT-CDO-IMPORTANCE:1
CLASS:PUBLIC
END:VEVENT
END:VCALENDAR
