BEGIN:VCALENDAR
PRODID:-//kirchenweb.ch gmbh//veranstaltungsausgabe v2.0//DE
VERSION:2.0
METHOD:PUBLISH
BEGIN:VEVENT
DTSTART:20230117T170000Z
DTEND:20230117T184500Z
LOCATION:Kirchgemeindehaus\, \,
TRANSP:OPAQUE
SEQUENCE:0
UID:3127-veranstaltung@gottstatt.ch
DTSTAMP:20221123T091137Z
DESCRIPTION:Kontakt: manuela.palma@gottstatt.ch\n\nWeitere Infos:
  https://www.gottstatt.ch/veranstaltung/3127
SUMMARY:KUW 9. Klasse
PRIORITY:5
X-MICROSOFT-CDO-IMPORTANCE:1
CLASS:PUBLIC
END:VEVENT
END:VCALENDAR
