BEGIN:VCALENDAR
PRODID:-//kirchenweb.ch gmbh//veranstaltungsausgabe v2.0//DE
VERSION:2.0
METHOD:PUBLISH
BEGIN:VEVENT
DTSTART:20230127T190000Z
DTEND:20230127T220000Z
LOCATION:Kirchgemeindehaus\, Gottstattstrasse 29\, 2552 Orpund
TRANSP:OPAQUE
SEQUENCE:0
UID:3079-veranstaltung@gottstatt.ch
DTSTAMP:20230127T181630Z
DESCRIPTION:Bibelabend: Joh 13. 1-15 + 21-30\nDer Abend findet live im
  Grossen Saal statt. Für Verhinderte ist eine Teilnahme mit "Microsoft
  Teams" direkt im Browser (Edge\, Chrome usw.) möglich.\nTeilnahme unter
  Angabe von Vorname und Name unter folgendem
 \nhttps://teams.microsoft.com/l/meetup-join/19%3ameeting_OTZkZTVmM2MtMTUyY
 i00YTQ3LThlMWMtODljOGU2ZWI0ZjEx%40thread.v2/0?context=%7b%22Tid%22%3a%22af
 151f2c-f4d2-4346-9f71-4a9675bf1104%22%2c%22Oid%22%3a%224a52103c-26d8-4f68-
 8b5c-57d381027db3%22%7d\n\nWir freuen uns aber besonders wenn du live
  dabei bist!\n\nKontakt: Hans Jürg Schlunegger\n\nWeitere Infos:
  https://www.gottstatt.ch/veranstaltung/3079
SUMMARY:Locus Dei
PRIORITY:5
X-MICROSOFT-CDO-IMPORTANCE:1
CLASS:PUBLIC
END:VEVENT
END:VCALENDAR
