BEGIN:VCALENDAR
PRODID:-//kirchenweb.ch gmbh//veranstaltungsausgabe v2.0//DE
VERSION:2.0
METHOD:PUBLISH
BEGIN:VEVENT
DTSTART:20230113T190000Z
DTEND:20230113T220000Z
LOCATION:Kirchgemeindehaus\, Gottstattstrasse 29\, 2552 Orpund
TRANSP:OPAQUE
SEQUENCE:0
UID:3077-veranstaltung@gottstatt.ch
DTSTAMP:20220627T225459Z
DESCRIPTION:Eltern nach dem Herzen Gottes \n\nKontakt: Hans Jürg
  Schlunegger\n\nWeitere Infos: https://www.gottstatt.ch/veranstaltung/3077
SUMMARY:Locus Dei
PRIORITY:5
X-MICROSOFT-CDO-IMPORTANCE:1
CLASS:PUBLIC
END:VEVENT
END:VCALENDAR
